BEGIN:VCALENDAR
VERSION:2.0
PRODID:-//www.fbcbroussard.com//NONSGML kigkonsult.se iCalcreator 2.39.1//
CALSCALE:GREGORIAN
METHOD:PUBLISH
UID:447dd5a8-7cad-4788-8d95-bda6fe713476
X-WR-CALNAME:www.fbcbroussard.com
X-WR-CALDESC:www.fbcbroussard.com
X-WR-TIMEZONE:America/Los_Angeles
X-LIC-LOCATION:America/Los_Angeles
BEGIN:VEVENT
UID:c4ce6576-f7e5-40f5-976d-8acac40fe2cc
DTSTAMP:20260421T102554Z
CLASS:PUBLIC
DTSTART;TZID=America/Los_Angeles:20260422T180000
DTEND;TZID=America/Los_Angeles:20260422T193000
SUMMARY:Students @Refuge
TRANSP:OPAQUE
BEGIN:VALARM
ACTION:DISPLAY
DESCRIPTION:Students @Refuge
TRIGGER:-PT15M
END:VALARM
END:VEVENT
END:VCALENDAR
