BEGIN:VCALENDAR
VERSION:2.0
PRODID:-//www.fbcbroussard.com//NONSGML kigkonsult.se iCalcreator 2.39.1//
CALSCALE:GREGORIAN
METHOD:PUBLISH
UID:1b7c99fa-2b99-4b96-9536-e217d4e26ea0
X-WR-CALNAME:www.fbcbroussard.com
X-WR-CALDESC:www.fbcbroussard.com
X-WR-TIMEZONE:America/Los_Angeles
X-LIC-LOCATION:America/Los_Angeles
BEGIN:VEVENT
UID:d7aa821b-ad2d-410d-b768-529503f6e9ef
DTSTAMP:20260425T134014Z
CLASS:PUBLIC
DTSTART;TZID=America/Los_Angeles:20260426T091500
DTEND;TZID=America/Los_Angeles:20260426T101500
SUMMARY:Small Groups Meeting
TRANSP:OPAQUE
BEGIN:VALARM
ACTION:DISPLAY
DESCRIPTION:Small Groups Meeting
TRIGGER:-PT15M
END:VALARM
END:VEVENT
END:VCALENDAR
